BEGIN:VCALENDAR
VERSION:2.0
PRODID:-//Bürgerbeauftragter der Bayerischen Staatsregierung - ECPv6.15.14//NONSGML v1.0//EN
CALSCALE:GREGORIAN
METHOD:PUBLISH
X-WR-CALNAME:Bürgerbeauftragter der Bayerischen Staatsregierung
X-ORIGINAL-URL:https://www.buergerbeauftragter.bayern
X-WR-CALDESC:Veranstaltungen für Bürgerbeauftragter der Bayerischen Staatsregierung
REFRESH-INTERVAL;VALUE=DURATION:PT1H
X-Robots-Tag:noindex
X-PUBLISHED-TTL:PT1H
BEGIN:VTIMEZONE
TZID:Europe/Berlin
BEGIN:DAYLIGHT
TZOFFSETFROM:+0100
TZOFFSETTO:+0200
TZNAME:CEST
DTSTART:20180325T010000
END:DAYLIGHT
BEGIN:STANDARD
TZOFFSETFROM:+0200
TZOFFSETTO:+0100
TZNAME:CET
DTSTART:20181028T010000
END:STANDARD
BEGIN:DAYLIGHT
TZOFFSETFROM:+0100
TZOFFSETTO:+0200
TZNAME:CEST
DTSTART:20190331T010000
END:DAYLIGHT
BEGIN:STANDARD
TZOFFSETFROM:+0200
TZOFFSETTO:+0100
TZNAME:CET
DTSTART:20191027T010000
END:STANDARD
BEGIN:DAYLIGHT
TZOFFSETFROM:+0100
TZOFFSETTO:+0200
TZNAME:CEST
DTSTART:20200329T010000
END:DAYLIGHT
BEGIN:STANDARD
TZOFFSETFROM:+0200
TZOFFSETTO:+0100
TZNAME:CET
DTSTART:20201025T010000
END:STANDARD
END:VTIMEZONE
BEGIN:VEVENT
DTSTART;VALUE=DATE:20190710
DTEND;VALUE=DATE:20190711
DTSTAMP:20260426T041301
CREATED:20190712T061318Z
LAST-MODIFIED:20190712T063419Z
UID:4237-1562716800-1562803199@www.buergerbeauftragter.bayern
SUMMARY:Sommernachtslauf 2019
DESCRIPTION:VorlesenLaufend informiert mit Bayerns Bürgerbeauftragtem!\n\n\n\n	\n	\n				\n	\n\n	\n	\n	\n\n	\n\n\n  \nMit einem Team von 30 Läufern startete der Bürgerbeauftragte der Bayerischen Staatsregierung Klaus Holetschek am Mittwoch\, dem 10. Juli beim Münchner „Sommernachtslauf“. Auch die Integrationsbeauftragte der Bayerischen Staatsregierung Gudrun Brendel-Fischer schloss sich seiner Mannschaft an. \nRund um den Lauf hatte der Bürgerbeauftragte ein offenes Ohr für die Anliegen der Bürgerinnen und Bürger. „Das wichtigste für mich ist es\, in einer sportlich-lockeren Atmosphäre miteinander ins Gespräch zu kommen. Dafür ist ein Stadtlauf ideal“\, so Holetschek und dankt allen Teilnehmern: „Ganz besonders gefreut hat mich\, dass zahlreiche Läufer aus dem letzten Jahr wieder in meinem Team dabei waren und wir mit doppelt so vielen Läufern eines der größten Teams des Abends gestellt haben.“ \nUnd das Bürgerbeauftragten-Team sorgte für Aufsehen: „Die Staatskanzlei ist auch dabei“\, war rund um den Sportplatz häufig zu hören. Nicht nur die exklusiven Laufshirts erregten Aufmerksamkeit\, auch der Informationsstand des Bürgerbeauftragten zog Interessierte an. „Dies zeigt mir\, wie wichtig es ist\, dass Politik und Bürger zusammenkommen\, denn nur gemeinsam können wir etwas bewegen“\, schlussfolgert Holetschek. \nMit Blick auf 2020 blitzt dann aber auch der Kampfgeist bei Holetschek auf: „Ich freue mich schon aufs nächste Jahr und die erneute laufstarke Unterstützung von zahlreichen Bürgerinnen und Bürgern – dann stellen wir vielleicht sogar das größte Team und lassen Fujitsu mit 55 Mitgliedern hinter uns“\, kündigt Holetschek mit einem Augenzwinkern an. Auch die individuellen Ergebnisse seines Teams können sich sehen lassen. So kamen allein drei Läufer bei der fünf Kilometer langen Strecke unter die Top Ten!
URL:https://www.buergerbeauftragter.bayern/termin/sommernachtslauf-2019/
CATEGORIES:Stadtlauf
END:VEVENT
BEGIN:VEVENT
DTSTART;TZID=Europe/Berlin:20190710T184500
DTEND;TZID=Europe/Berlin:20190710T203000
DTSTAMP:20260426T041301
CREATED:20190618T090022Z
LAST-MODIFIED:20190626T070931Z
UID:4190-1562784300-1562790600@www.buergerbeauftragter.bayern
SUMMARY:Münchner Sommernachtslauf 2019
DESCRIPTION:VorlesenVerstärkt das Team des Bürgerbeauftragten beim „Sommernachtslauf“ am 10. Juli 2019! \nDie ersten 20 Anmeldungen bekommen ein kostenloses Starterticket und exklusives Lauf-Shirt. Meldet euch dazu bis 24. Juni unter buergerbeauftragter@bayern.de mit dem Betreff „Sommernachtslauf“ an. Am 4. Juli findet zudem ein professionelles Lauftraining mit dem erfahrenen Coach Marcus Frank www.fitness-frank.de statt. 
URL:https://www.buergerbeauftragter.bayern/termin/muenchner-sommernachtslauf-2019/
CATEGORIES:Stadtlauf
ATTACH;FMTTYPE=image/png:https://www.buergerbeauftragter.bayern/wp-content/uploads/2019/05/karikatur.png
END:VEVENT
BEGIN:VEVENT
DTSTART;TZID=Europe/Berlin:20190724T160000
DTEND;TZID=Europe/Berlin:20190724T190000
DTSTAMP:20260426T041301
CREATED:20190712T053733Z
LAST-MODIFIED:20190712T053848Z
UID:4221-1563984000-1563994800@www.buergerbeauftragter.bayern
SUMMARY:Bürgersprechstunde in Augsburg
DESCRIPTION:Vorlesen
URL:https://www.buergerbeauftragter.bayern/termin/buergersprechstunde-in-augsburg/
LOCATION:München
CATEGORIES:Bürgersprechstunden
ATTACH;FMTTYPE=image/jpeg:https://www.buergerbeauftragter.bayern/wp-content/uploads/2019/07/Sailer.jpg
END:VEVENT
END:VCALENDAR