BEGIN:VCALENDAR
VERSION:2.0
PRODID:-//Bürgerbeauftragter der Bayerischen Staatsregierung - ECPv6.15.14//NONSGML v1.0//EN
CALSCALE:GREGORIAN
METHOD:PUBLISH
X-ORIGINAL-URL:https://www.buergerbeauftragter.bayern
X-WR-CALDESC:Veranstaltungen für Bürgerbeauftragter der Bayerischen Staatsregierung
REFRESH-INTERVAL;VALUE=DURATION:PT1H
X-Robots-Tag:noindex
X-PUBLISHED-TTL:PT1H
BEGIN:VTIMEZONE
TZID:Europe/Berlin
BEGIN:DAYLIGHT
TZOFFSETFROM:+0100
TZOFFSETTO:+0200
TZNAME:CEST
DTSTART:20210328T010000
END:DAYLIGHT
BEGIN:STANDARD
TZOFFSETFROM:+0200
TZOFFSETTO:+0100
TZNAME:CET
DTSTART:20211031T010000
END:STANDARD
BEGIN:DAYLIGHT
TZOFFSETFROM:+0100
TZOFFSETTO:+0200
TZNAME:CEST
DTSTART:20220327T010000
END:DAYLIGHT
BEGIN:STANDARD
TZOFFSETFROM:+0200
TZOFFSETTO:+0100
TZNAME:CET
DTSTART:20221030T010000
END:STANDARD
BEGIN:DAYLIGHT
TZOFFSETFROM:+0100
TZOFFSETTO:+0200
TZNAME:CEST
DTSTART:20230326T010000
END:DAYLIGHT
BEGIN:STANDARD
TZOFFSETFROM:+0200
TZOFFSETTO:+0100
TZNAME:CET
DTSTART:20231029T010000
END:STANDARD
END:VTIMEZONE
BEGIN:VEVENT
DTSTART;TZID=Europe/Berlin:20220128T180000
DTEND;TZID=Europe/Berlin:20220128T190000
DTSTAMP:20260424T012648
CREATED:20220120T162647Z
LAST-MODIFIED:20220510T140454Z
UID:5059-1643392800-1643396400@www.buergerbeauftragter.bayern
SUMMARY:Bürgerdialog mit dem Ministerpräsidenten
DESCRIPTION:Vorlesen\n\nMichael Hofmann ist es als Bürgerbeauftragtem der Bayerischen Staatsregierung wichtig\, mit den Bürgerinnen und Bürgern direkt ins Gespräch zu kommen. Am 28. Januar findet der Auftakt für den Bürgerdialog 2022 statt: Ministerpräsident Dr. Markus Söder\, MdL\, und Michael Hofmann\, MdL\, sind in Hof bei TV Oberfranken zu Gast und stellen sich im Fernsehstudio den Fragen der Bürgerinnen und Bürger. \nSie kommen aus Oberfranken und möchten Ihre Frage stellen? Schreiben Sie an buergerdialog@tvo.de und schildern Sie Ihr Anliegen. Alle Fragen\, die in der Sendung nicht beantwortet werden können\, bearbeitet der Bürgerbeauftragte im Nachgang. \nWeitere Informationen zum Bürgerdialog in Oberfranken finden Sie auf der Internetseite von TV Oberfranken.
URL:https://www.buergerbeauftragter.bayern/termin/buergerdialog-mit-dem-ministerpraesidenten/
CATEGORIES:Bürgersprechstunden,Digitale Bürgersprechstunden
END:VEVENT
END:VCALENDAR