BEGIN:VCALENDAR
VERSION:2.0
PRODID:-//Bürgerbeauftragter der Bayerischen Staatsregierung - ECPv6.15.14//NONSGML v1.0//EN
CALSCALE:GREGORIAN
METHOD:PUBLISH
X-WR-CALNAME:Bürgerbeauftragter der Bayerischen Staatsregierung
X-ORIGINAL-URL:https://www.buergerbeauftragter.bayern
X-WR-CALDESC:Veranstaltungen für Bürgerbeauftragter der Bayerischen Staatsregierung
REFRESH-INTERVAL;VALUE=DURATION:PT1H
X-Robots-Tag:noindex
X-PUBLISHED-TTL:PT1H
BEGIN:VTIMEZONE
TZID:Europe/Berlin
BEGIN:DAYLIGHT
TZOFFSETFROM:+0100
TZOFFSETTO:+0200
TZNAME:CEST
DTSTART:20210328T010000
END:DAYLIGHT
BEGIN:STANDARD
TZOFFSETFROM:+0200
TZOFFSETTO:+0100
TZNAME:CET
DTSTART:20211031T010000
END:STANDARD
BEGIN:DAYLIGHT
TZOFFSETFROM:+0100
TZOFFSETTO:+0200
TZNAME:CEST
DTSTART:20220327T010000
END:DAYLIGHT
BEGIN:STANDARD
TZOFFSETFROM:+0200
TZOFFSETTO:+0100
TZNAME:CET
DTSTART:20221030T010000
END:STANDARD
BEGIN:DAYLIGHT
TZOFFSETFROM:+0100
TZOFFSETTO:+0200
TZNAME:CEST
DTSTART:20230326T010000
END:DAYLIGHT
BEGIN:STANDARD
TZOFFSETFROM:+0200
TZOFFSETTO:+0100
TZNAME:CET
DTSTART:20231029T010000
END:STANDARD
END:VTIMEZONE
BEGIN:VEVENT
DTSTART;TZID=Europe/Berlin:20220218T190000
DTEND;TZID=Europe/Berlin:20220218T200000
DTSTAMP:20260423T233631
CREATED:20220510T140339Z
LAST-MODIFIED:20220510T140339Z
UID:5427-1645210800-1645214400@www.buergerbeauftragter.bayern
SUMMARY:Bürgerdialog mit dem Ministerpräsidenten in Amberg
DESCRIPTION:VorlesenMichael Hofmann ist es als Bürgerbeauftragtem der Bayerischen Staatsregierung wichtig\, mit den Bürgerinnen und Bürgern direkt ins Gespräch zu kommen. Der zweite Bürgerdialog 2022 findet am 18. Februar in Amberg: Ministerpräsident Dr. Markus Söder\, MdL\, und Michael Hofmann\, MdL\, sind dann bei OberpfalzTV (OTV) zu Gast und stellen sich im Fernsehstudio den Fragen der Bürgerinnen und Bürger. \nOTV strahlt die Sendung am 18. Februar 2022 um 19.00 Uhr aus. \nSie kommen aus der Region und möchten Ihre Frage stellen? Weitere Informationen zum Bürgerdialog in Nürnberg finden Sie auf der Internetseite von OTV. Alle Fragen\, die in der Sendung nicht beantwortet werden können\, bearbeitet der Bürgerbeauftragte im Nachgang.
URL:https://www.buergerbeauftragter.bayern/termin/buergerdialog-mit-dem-ministerpraesidenten-in-amberg/
ATTACH;FMTTYPE=image/png:https://www.buergerbeauftragter.bayern/wp-content/uploads/2022/05/Anfang_Totale_Buergerdialog.png
END:VEVENT
END:VCALENDAR