BEGIN:VCALENDAR
VERSION:2.0
PRODID:-//Bürgerbeauftragter der Bayerischen Staatsregierung - ECPv6.15.14//NONSGML v1.0//EN
CALSCALE:GREGORIAN
METHOD:PUBLISH
X-ORIGINAL-URL:https://www.buergerbeauftragter.bayern
X-WR-CALDESC:Veranstaltungen für Bürgerbeauftragter der Bayerischen Staatsregierung
REFRESH-INTERVAL;VALUE=DURATION:PT1H
X-Robots-Tag:noindex
X-PUBLISHED-TTL:PT1H
BEGIN:VTIMEZONE
TZID:Europe/Berlin
BEGIN:DAYLIGHT
TZOFFSETFROM:+0100
TZOFFSETTO:+0200
TZNAME:CEST
DTSTART:20210328T010000
END:DAYLIGHT
BEGIN:STANDARD
TZOFFSETFROM:+0200
TZOFFSETTO:+0100
TZNAME:CET
DTSTART:20211031T010000
END:STANDARD
BEGIN:DAYLIGHT
TZOFFSETFROM:+0100
TZOFFSETTO:+0200
TZNAME:CEST
DTSTART:20220327T010000
END:DAYLIGHT
BEGIN:STANDARD
TZOFFSETFROM:+0200
TZOFFSETTO:+0100
TZNAME:CET
DTSTART:20221030T010000
END:STANDARD
BEGIN:DAYLIGHT
TZOFFSETFROM:+0100
TZOFFSETTO:+0200
TZNAME:CEST
DTSTART:20230326T010000
END:DAYLIGHT
BEGIN:STANDARD
TZOFFSETFROM:+0200
TZOFFSETTO:+0100
TZNAME:CET
DTSTART:20231029T010000
END:STANDARD
END:VTIMEZONE
BEGIN:VEVENT
DTSTART;VALUE=DATE:20220604
DTEND;VALUE=DATE:20220605
DTSTAMP:20260423T160647
CREATED:20220511T072947Z
LAST-MODIFIED:20220530T142039Z
UID:5434-1654300800-1654387199@www.buergerbeauftragter.bayern
SUMMARY:Bürgerdialog in Augsburg
DESCRIPTION:VorlesenMit den Bürgerinnen und Bürgern ins Gespräch zu kommen\, einen direkten Austausch zu ermöglichen – das ist das Ziel des Bürgerdialogs\, mit dem Ministerpräsident Dr. Markus Söder\, MdL\, und der Bürgerbeauftragte der Bayerischen Staatsregierung\, Michael Hofmann\, MdL\, derzeit bei den regionalen Fernsehsendern in Bayern zu Gast sind. Die nächste Station ihrer Tour ist der Bürgerdialog bei a.tv in Augsburg. Die Sendung wird am 4. Juni 2022 um 20.00 Uhr ausgestrahlt\, sie ist zudem am 5. Juni 2022 um 20.30 Uhr zu sehen und in der Mediathek abrufbar.
URL:https://www.buergerbeauftragter.bayern/termin/buergerdialog-in-augsburg/
LOCATION:Augsburg
END:VEVENT
BEGIN:VEVENT
DTSTART;TZID=Europe/Berlin:20220625T190000
DTEND;TZID=Europe/Berlin:20220625T200000
DTSTAMP:20260423T160647
CREATED:20220523T093603Z
LAST-MODIFIED:20220602T124213Z
UID:5447-1656183600-1656187200@www.buergerbeauftragter.bayern
SUMMARY:Bürgerdialog in Rosenheim
DESCRIPTION:VorlesenIm Rahmen des Bürgerdialogs sind Ministerpräsident Dr. Markus Söder\, MdL\, und der Bürgerbeauftragte der Bayerischen Staatsregierung\, Michael Hofmann\, MdL\, derzeit bei den regionalen Fernsehsendern in Bayern zu Gast. \nAm 25. Juni 2022 machen sie Station in Rosenheim und stellen sich bei rfo |  Regionalfernsehen Oberbayern Ihren Fragen. Einen ersten Einblick erhalten Sie im Interview von rfo mit Michael Hofmann. \nrfo stellt auf seiner Internetseite www.rfo.de/buergerdialog/ ein Formular zur Verfügung\, über das Sie Ihre Fragen an den Ministerpräsidenten und den Bürgerbeauftragten stellen können.
URL:https://www.buergerbeauftragter.bayern/termin/buergerdialog-in-rosenheim/
LOCATION:rfo Rosenheim\, Rosenheim
CATEGORIES:Aktuell,Bürgersprechstunden
END:VEVENT
END:VCALENDAR