BEGIN:VCALENDAR
VERSION:2.0
PRODID:-//Bürgerbeauftragter der Bayerischen Staatsregierung - ECPv6.15.14//NONSGML v1.0//EN
CALSCALE:GREGORIAN
METHOD:PUBLISH
X-WR-CALNAME:Bürgerbeauftragter der Bayerischen Staatsregierung
X-ORIGINAL-URL:https://www.buergerbeauftragter.bayern
X-WR-CALDESC:Veranstaltungen für Bürgerbeauftragter der Bayerischen Staatsregierung
REFRESH-INTERVAL;VALUE=DURATION:PT1H
X-Robots-Tag:noindex
X-PUBLISHED-TTL:PT1H
BEGIN:VTIMEZONE
TZID:Europe/Berlin
BEGIN:DAYLIGHT
TZOFFSETFROM:+0100
TZOFFSETTO:+0200
TZNAME:CEST
DTSTART:20210328T010000
END:DAYLIGHT
BEGIN:STANDARD
TZOFFSETFROM:+0200
TZOFFSETTO:+0100
TZNAME:CET
DTSTART:20211031T010000
END:STANDARD
BEGIN:DAYLIGHT
TZOFFSETFROM:+0100
TZOFFSETTO:+0200
TZNAME:CEST
DTSTART:20220327T010000
END:DAYLIGHT
BEGIN:STANDARD
TZOFFSETFROM:+0200
TZOFFSETTO:+0100
TZNAME:CET
DTSTART:20221030T010000
END:STANDARD
BEGIN:DAYLIGHT
TZOFFSETFROM:+0100
TZOFFSETTO:+0200
TZNAME:CEST
DTSTART:20230326T010000
END:DAYLIGHT
BEGIN:STANDARD
TZOFFSETFROM:+0200
TZOFFSETTO:+0100
TZNAME:CET
DTSTART:20231029T010000
END:STANDARD
END:VTIMEZONE
BEGIN:VEVENT
DTSTART;TZID=Europe/Berlin:20221023T110000
DTEND;TZID=Europe/Berlin:20221023T120000
DTSTAMP:20260421T091814
CREATED:20221005T094150Z
LAST-MODIFIED:20221027T100052Z
UID:5637-1666522800-1666526400@www.buergerbeauftragter.bayern
SUMMARY:Bürgerdialog bei UNSER RADIO in Passau
DESCRIPTION:VorlesenAm 23. Oktober 2022 sind Ministerpräsident Dr. Markus Söder\, MdL\, und der Bürgerbeauftragte der Bayerischen Staatsregierung\, Michael Hofmann\, MdL\, bei UNSER RADIO in Passau zu Gast und beantworten die Fragen der Bürgerinnen und Bürger. Die Sendung wird ab 11 Uhr bei UNSER RADIO ausgestrahlt. \nWeitere Informationen zum Bürgerdialog auf UNSER RADIO finden Sie online auf den Seiten von UNSER RADIO. \nMinisterpräsident Dr. Markus Söder und Bürgerbeauftragter Michael Hofmann sind aktuell bei verschiedenen regionalen Radiosendern in Bayern zu Besuch und stellen sich dort Fragen der Bürgerinnen und Bürger. \nDie Sendung zum Nachhören finden Sie online auf den Seiten von UNSER RADIO.
URL:https://www.buergerbeauftragter.bayern/termin/buergerdialog-bei-unser-radio-in-passau/
LOCATION:Passau
CATEGORIES:Aktuell,Bürgersprechstunden
END:VEVENT
END:VCALENDAR