BEGIN:VCALENDAR
VERSION:2.0
PRODID:-//Bürgerbeauftragter der Bayerischen Staatsregierung - ECPv6.15.14//NONSGML v1.0//EN
CALSCALE:GREGORIAN
METHOD:PUBLISH
X-WR-CALNAME:Bürgerbeauftragter der Bayerischen Staatsregierung
X-ORIGINAL-URL:https://www.buergerbeauftragter.bayern
X-WR-CALDESC:Veranstaltungen für Bürgerbeauftragter der Bayerischen Staatsregierung
REFRESH-INTERVAL;VALUE=DURATION:PT1H
X-Robots-Tag:noindex
X-PUBLISHED-TTL:PT1H
BEGIN:VTIMEZONE
TZID:Europe/Berlin
BEGIN:DAYLIGHT
TZOFFSETFROM:+0100
TZOFFSETTO:+0200
TZNAME:CEST
DTSTART:20210328T010000
END:DAYLIGHT
BEGIN:STANDARD
TZOFFSETFROM:+0200
TZOFFSETTO:+0100
TZNAME:CET
DTSTART:20211031T010000
END:STANDARD
BEGIN:DAYLIGHT
TZOFFSETFROM:+0100
TZOFFSETTO:+0200
TZNAME:CEST
DTSTART:20220327T010000
END:DAYLIGHT
BEGIN:STANDARD
TZOFFSETFROM:+0200
TZOFFSETTO:+0100
TZNAME:CET
DTSTART:20221030T010000
END:STANDARD
BEGIN:DAYLIGHT
TZOFFSETFROM:+0100
TZOFFSETTO:+0200
TZNAME:CEST
DTSTART:20230326T010000
END:DAYLIGHT
BEGIN:STANDARD
TZOFFSETFROM:+0200
TZOFFSETTO:+0100
TZNAME:CET
DTSTART:20231029T010000
END:STANDARD
END:VTIMEZONE
BEGIN:VEVENT
DTSTART;VALUE=DATE:20221114
DTEND;VALUE=DATE:20221119
DTSTAMP:20260421T071153
CREATED:20221027T082121Z
LAST-MODIFIED:20221027T095638Z
UID:5686-1668384000-1668815999@www.buergerbeauftragter.bayern
SUMMARY:Bürgerdialog bei Radio Arabella in München
DESCRIPTION:VorlesenIm November sind Ministerpräsident Dr. Markus Söder\, MdL\, und der Bürgerbeauftragte der Bayerischen Staatsregierung\, Michael Hofmann\, MdL\, bei Radio Arabella in München zu Gast und beantworten die Fragen der Bürgerinnen und Bürger. Die Beiträge werden von 14. bis 18. November täglich bei Radio Arabella ausgestrahlt. \nWeitere Informationen zum Bürgerdialog auf Radio Arabella finden Sie online auf den Seiten von Radio Arabella. \nMinisterpräsident Dr. Markus Söder und Bürgerbeauftragter Michael Hofmann sind aktuell bei verschiedenen regionalen Radiosendern in Bayern zu Besuch und stellen sich dort den Fragen der Bürgerinnen und Bürger.
URL:https://www.buergerbeauftragter.bayern/termin/buergerdialog-bei-radio-arabella-in-muenchen/
LOCATION:München
CATEGORIES:Aktuell,Bürgersprechstunden
END:VEVENT
END:VCALENDAR