BEGIN:VCALENDAR
VERSION:2.0
PRODID:-//Bürgerbeauftragter der Bayerischen Staatsregierung - ECPv6.15.14//NONSGML v1.0//EN
CALSCALE:GREGORIAN
METHOD:PUBLISH
X-ORIGINAL-URL:https://www.buergerbeauftragter.bayern
X-WR-CALDESC:Veranstaltungen für Bürgerbeauftragter der Bayerischen Staatsregierung
REFRESH-INTERVAL;VALUE=DURATION:PT1H
X-Robots-Tag:noindex
X-PUBLISHED-TTL:PT1H
BEGIN:VTIMEZONE
TZID:Europe/Berlin
BEGIN:DAYLIGHT
TZOFFSETFROM:+0100
TZOFFSETTO:+0200
TZNAME:CEST
DTSTART:20220327T010000
END:DAYLIGHT
BEGIN:STANDARD
TZOFFSETFROM:+0200
TZOFFSETTO:+0100
TZNAME:CET
DTSTART:20221030T010000
END:STANDARD
BEGIN:DAYLIGHT
TZOFFSETFROM:+0100
TZOFFSETTO:+0200
TZNAME:CEST
DTSTART:20230326T010000
END:DAYLIGHT
BEGIN:STANDARD
TZOFFSETFROM:+0200
TZOFFSETTO:+0100
TZNAME:CET
DTSTART:20231029T010000
END:STANDARD
BEGIN:DAYLIGHT
TZOFFSETFROM:+0100
TZOFFSETTO:+0200
TZNAME:CEST
DTSTART:20240331T010000
END:DAYLIGHT
BEGIN:STANDARD
TZOFFSETFROM:+0200
TZOFFSETTO:+0100
TZNAME:CET
DTSTART:20241027T010000
END:STANDARD
END:VTIMEZONE
BEGIN:VEVENT
DTSTART;VALUE=DATE:20230311
DTEND;VALUE=DATE:20230312
DTSTAMP:20260420T230516
CREATED:20230130T150216Z
LAST-MODIFIED:20230303T103443Z
UID:5818-1678492800-1678579199@www.buergerbeauftragter.bayern
SUMMARY:Bürgerdialog bei Radio charivari in Regensburg
DESCRIPTION:VorlesenIm März 2023 sind Ministerpräsident Dr. Markus Söder\, MdL\, und der Bürgerbeauftragte der Bayerischen Staatsregierung\, Michael Hofmann\, MdL\, bei Radio charivari in Regensburg zu Gast und beantworten die Fragen der Bürgerinnen und Bürger. Die Sendung wird am 11. März 2023 bei Radio charivari ausgestrahlt. \nWeitere Informationen zum Bürgerdialog auf Radio charivari finden Sie online auf den Seiten von Radio charivari. \nMinisterpräsident Dr. Markus Söder und Bürgerbeauftragter Michael Hofmann sind aktuell bei verschiedenen regionalen Radiosendern in Bayern zu Besuch und stellen sich dort den Fragen der Bürgerinnen und Bürger.
URL:https://www.buergerbeauftragter.bayern/termin/buergerdialog-bei-radio-charivari-in-regensburg/
LOCATION:Regensburg\, Deutschland
CATEGORIES:Aktuell,Bürgersprechstunden
END:VEVENT
END:VCALENDAR