BEGIN:VCALENDAR
VERSION:2.0
PRODID:-//Bürgerbeauftragter der Bayerischen Staatsregierung - ECPv6.15.14//NONSGML v1.0//EN
CALSCALE:GREGORIAN
METHOD:PUBLISH
X-WR-CALNAME:Bürgerbeauftragter der Bayerischen Staatsregierung
X-ORIGINAL-URL:https://www.buergerbeauftragter.bayern
X-WR-CALDESC:Veranstaltungen für Bürgerbeauftragter der Bayerischen Staatsregierung
REFRESH-INTERVAL;VALUE=DURATION:PT1H
X-Robots-Tag:noindex
X-PUBLISHED-TTL:PT1H
BEGIN:VTIMEZONE
TZID:Europe/Berlin
BEGIN:DAYLIGHT
TZOFFSETFROM:+0100
TZOFFSETTO:+0200
TZNAME:CEST
DTSTART:20220327T010000
END:DAYLIGHT
BEGIN:STANDARD
TZOFFSETFROM:+0200
TZOFFSETTO:+0100
TZNAME:CET
DTSTART:20221030T010000
END:STANDARD
BEGIN:DAYLIGHT
TZOFFSETFROM:+0100
TZOFFSETTO:+0200
TZNAME:CEST
DTSTART:20230326T010000
END:DAYLIGHT
BEGIN:STANDARD
TZOFFSETFROM:+0200
TZOFFSETTO:+0100
TZNAME:CET
DTSTART:20231029T010000
END:STANDARD
BEGIN:DAYLIGHT
TZOFFSETFROM:+0100
TZOFFSETTO:+0200
TZNAME:CEST
DTSTART:20240331T010000
END:DAYLIGHT
BEGIN:STANDARD
TZOFFSETFROM:+0200
TZOFFSETTO:+0100
TZNAME:CET
DTSTART:20241027T010000
END:STANDARD
END:VTIMEZONE
BEGIN:VEVENT
DTSTART;VALUE=DATE:20230707
DTEND;VALUE=DATE:20230708
DTSTAMP:20260420T154015
CREATED:20230710T053356Z
LAST-MODIFIED:20230710T053637Z
UID:5959-1688688000-1688774399@www.buergerbeauftragter.bayern
SUMMARY:Bürgerdialog bei radio Bamberg in Bamberg
DESCRIPTION:VorlesenAm 7. Juli 2023 waren Ministerpräsident Dr. Markus Söder\, MdL\, und der Bürgerbeauftragte der Bayerischen Staatsregierung\, Michael Hofmann\, MdL\, bei radio Bamberg in Bamberg zu Gast und beantworteten die Fragen der Bürgerinnen und Bürger. \nEine Aufzeichnung des Gesprächs und weitere Informationen zum Bürgerdialog auf radio Bamberg finden Sie online auf den Seiten von radio Bamberg. \nMinisterpräsident Dr. Markus Söder und Bürgerbeauftragter Michael Hofmann sind aktuell bei verschiedenen regionalen Radiosendern in Bayern zu Besuch und stellen sich dort den Fragen der Bürgerinnen und Bürger.
URL:https://www.buergerbeauftragter.bayern/termin/buergerdialog-bei-radio-bamberg-in-bamberg/
LOCATION:Bamberg
CATEGORIES:Aktuell,Bürgersprechstunden
END:VEVENT
BEGIN:VEVENT
DTSTART;TZID=Europe/Berlin:20230715T100000
DTEND;TZID=Europe/Berlin:20230715T120000
DTSTAMP:20260420T154015
CREATED:20230713T093507Z
LAST-MODIFIED:20230717T065349Z
UID:5966-1689415200-1689422400@www.buergerbeauftragter.bayern
SUMMARY:Bürgerdialog bei Radio BAYERNWELLE in Freilassing
DESCRIPTION:VorlesenIm Juli 2023 waren Ministerpräsident Dr. Markus Söder\, MdL\, und der Bürgerbeauftragte der Bayerischen Staatsregierung\, Michael Hofmann\, MdL\, bei Radio BAYERNWELLE in Freilassing zu Gast und beantworteten die Fragen der Bürgerinnen und Bürger. \nDas Gespräch können Sie am 15. Juli 2023 von 10:00 bis 12:00 Uhr auf Radio BAYERNWELLE hören. Eine Aufzeichnung des Gesprächs und weitere Informationen zum Bürgerdialog auf Radio BAYERNWELLE finden Sie online auf den Seiten von Radio BAYERNWELLE.
URL:https://www.buergerbeauftragter.bayern/termin/buergerdialog-bei-radio-bayernwelle-in-freilassing/
CATEGORIES:Aktuell,Bürgersprechstunden
END:VEVENT
END:VCALENDAR