BEGIN:VCALENDAR
VERSION:2.0
PRODID:-//Bürgerbeauftragter der Bayerischen Staatsregierung - ECPv6.15.14//NONSGML v1.0//EN
CALSCALE:GREGORIAN
METHOD:PUBLISH
X-WR-CALNAME:Bürgerbeauftragter der Bayerischen Staatsregierung
X-ORIGINAL-URL:https://www.buergerbeauftragter.bayern
X-WR-CALDESC:Veranstaltungen für Bürgerbeauftragter der Bayerischen Staatsregierung
REFRESH-INTERVAL;VALUE=DURATION:PT1H
X-Robots-Tag:noindex
X-PUBLISHED-TTL:PT1H
BEGIN:VTIMEZONE
TZID:Europe/Berlin
BEGIN:DAYLIGHT
TZOFFSETFROM:+0100
TZOFFSETTO:+0200
TZNAME:CEST
DTSTART:20230326T010000
END:DAYLIGHT
BEGIN:STANDARD
TZOFFSETFROM:+0200
TZOFFSETTO:+0100
TZNAME:CET
DTSTART:20231029T010000
END:STANDARD
BEGIN:DAYLIGHT
TZOFFSETFROM:+0100
TZOFFSETTO:+0200
TZNAME:CEST
DTSTART:20240331T010000
END:DAYLIGHT
BEGIN:STANDARD
TZOFFSETFROM:+0200
TZOFFSETTO:+0100
TZNAME:CET
DTSTART:20241027T010000
END:STANDARD
BEGIN:DAYLIGHT
TZOFFSETFROM:+0100
TZOFFSETTO:+0200
TZNAME:CEST
DTSTART:20250330T010000
END:DAYLIGHT
BEGIN:STANDARD
TZOFFSETFROM:+0200
TZOFFSETTO:+0100
TZNAME:CET
DTSTART:20251026T010000
END:STANDARD
END:VTIMEZONE
BEGIN:VEVENT
DTSTART;VALUE=DATE:20240209
DTEND;VALUE=DATE:20240210
DTSTAMP:20260420T024154
CREATED:20240315T135713Z
LAST-MODIFIED:20240319T100237Z
UID:6061-1707436800-1707523199@www.buergerbeauftragter.bayern
SUMMARY:Beitrag a.tv
DESCRIPTION:VorlesenDer Bürgerbeauftragte der Bayerischen Staatsregierung\, Herr Wolfgang Fackler\, MdL\, hat mit a.tv zum Thema „Bürgerbeteiligung bei erneuerbaren Energien“ gesprochen. Ein Video dazu finden Sie online auf den Seiten von a.tv (Für mehr Windkraft braucht es finanzielle Anreize | a.tv (augsburg.tv)).
URL:https://www.buergerbeauftragter.bayern/termin/beitrag-a-tv/
CATEGORIES:Aktuell,Sonstige
ATTACH;FMTTYPE=image/jpeg:https://www.buergerbeauftragter.bayern/wp-content/uploads/2024/03/240214-Bild-Windkraft-a-tv.jpg
END:VEVENT
END:VCALENDAR