BEGIN:VCALENDAR
VERSION:2.0
PRODID:-//Bürgerbeauftragter der Bayerischen Staatsregierung - ECPv6.15.14//NONSGML v1.0//EN
CALSCALE:GREGORIAN
METHOD:PUBLISH
X-WR-CALNAME:Bürgerbeauftragter der Bayerischen Staatsregierung
X-ORIGINAL-URL:https://www.buergerbeauftragter.bayern
X-WR-CALDESC:Veranstaltungen für Bürgerbeauftragter der Bayerischen Staatsregierung
REFRESH-INTERVAL;VALUE=DURATION:PT1H
X-Robots-Tag:noindex
X-PUBLISHED-TTL:PT1H
BEGIN:VTIMEZONE
TZID:Europe/Berlin
BEGIN:DAYLIGHT
TZOFFSETFROM:+0100
TZOFFSETTO:+0200
TZNAME:CEST
DTSTART:20230326T010000
END:DAYLIGHT
BEGIN:STANDARD
TZOFFSETFROM:+0200
TZOFFSETTO:+0100
TZNAME:CET
DTSTART:20231029T010000
END:STANDARD
BEGIN:DAYLIGHT
TZOFFSETFROM:+0100
TZOFFSETTO:+0200
TZNAME:CEST
DTSTART:20240331T010000
END:DAYLIGHT
BEGIN:STANDARD
TZOFFSETFROM:+0200
TZOFFSETTO:+0100
TZNAME:CET
DTSTART:20241027T010000
END:STANDARD
BEGIN:DAYLIGHT
TZOFFSETFROM:+0100
TZOFFSETTO:+0200
TZNAME:CEST
DTSTART:20250330T010000
END:DAYLIGHT
BEGIN:STANDARD
TZOFFSETFROM:+0200
TZOFFSETTO:+0100
TZNAME:CET
DTSTART:20251026T010000
END:STANDARD
END:VTIMEZONE
BEGIN:VEVENT
DTSTART;VALUE=DATE:20240306
DTEND;VALUE=DATE:20240307
DTSTAMP:20260420T011557
CREATED:20240315T140810Z
LAST-MODIFIED:20240321T132709Z
UID:6063-1709683200-1709769599@www.buergerbeauftragter.bayern
SUMMARY:Gemeinsame Bürgersprechstunde des Bürgerbeauftragten mit der Landtagsabgeordneten Jenny Schack
DESCRIPTION:VorlesenDer Bürgerbeauftragte der Bayerischen Staatsregierung\, Herr Wolfgang Fackler\, MdL\, hat auf Einladung der Landtagsabgeordneten Jenny Schack eine gemeinsame Bürgersprechstunde vor Ort in Günzburg durchgeführt. Dabei konnten interessierte Bürgerinnen und Bürger das Gespräch mit dem Bürgerbeauftragten und der Landtagsabgeordneten suchen.
URL:https://www.buergerbeauftragter.bayern/termin/gemeinsame-buergersprechstunde-des-buergerbeauftragten-mit-der-landtagsabgeordneten-jenny-schack/
CATEGORIES:Aktuell,Bürgersprechstunden
ATTACH;FMTTYPE=image/jpeg:https://www.buergerbeauftragter.bayern/wp-content/uploads/2024/03/240315-Buergersprechstunde-Guenzburg.jpg
END:VEVENT
BEGIN:VEVENT
DTSTART;VALUE=DATE:20240312
DTEND;VALUE=DATE:20240313
DTSTAMP:20260420T011557
CREATED:20240315T141553Z
LAST-MODIFIED:20241014T052433Z
UID:6067-1710201600-1710287999@www.buergerbeauftragter.bayern
SUMMARY:Besprechungstermin mit StMUV
DESCRIPTION:VorlesenAm 12. März 2024 hat der Bürgerbeauftragte der Bayerischen Staatsregierung\, Herr Wolfgang Fackler\, MdL\, mit Mitarbeitern des StMUV und dem betroffenen Petenten ein Gespräch zum Thema: „Fließgewässerschutz in Bayern – Gewässerschutzkonzept“ geführt. Es wurde die aktuelle Sach- und Rechtslage sowie die Frage nach möglichen Ansätzen zur Verbesserung erörtert.
URL:https://www.buergerbeauftragter.bayern/termin/besprechungstermin-mit-stmuv/
LOCATION:München
CATEGORIES:Aktuell,Sonstige
ATTACH;FMTTYPE=image/jpeg:https://www.buergerbeauftragter.bayern/wp-content/uploads/2024/03/240312-Gespraech-Ketterl-mit-StMUV-1.jpg
END:VEVENT
BEGIN:VEVENT
DTSTART;VALUE=DATE:20240312
DTEND;VALUE=DATE:20240313
DTSTAMP:20260420T011557
CREATED:20240315T141208Z
LAST-MODIFIED:20241014T052303Z
UID:6065-1710201600-1710287999@www.buergerbeauftragter.bayern
SUMMARY:Austausch mit der Landesfachstelle für Büchereien und Bildung im Sankt Michaelsbund
DESCRIPTION:VorlesenAm 12. März 2024 hat sich der Bürgerbeauftragte der Bayerischen Staatsregierung\, Herr Wolfgang Fackler\, MdL\, mit der Leiterin der Landesfachstelle für Büchereien und Bildung im Sankt Michaelsbund und Präsidentin der Deutschen Akademie für Kinder- und Jugendliteratur\, Frau Dr. Claudia Maria Pecher\, ausgetauscht. Im Fokus des Gesprächs standen die Themen Lesen und Bildung.
URL:https://www.buergerbeauftragter.bayern/termin/austausch-mit-der-landesfachstelle-fuer-buechereien-und-bildung-im-sankt-michaelsbund/
LOCATION:München
CATEGORIES:Aktuell,Sonstige
ATTACH;FMTTYPE=image/jpeg:https://www.buergerbeauftragter.bayern/wp-content/uploads/2024/03/240312-Austauch-Pecher-2.jpg
END:VEVENT
BEGIN:VEVENT
DTSTART;VALUE=DATE:20240314
DTEND;VALUE=DATE:20240315
DTSTAMP:20260420T011557
CREATED:20240315T142106Z
LAST-MODIFIED:20241014T053840Z
UID:6071-1710374400-1710460799@www.buergerbeauftragter.bayern
SUMMARY:Austausch mit Verbraucherzentrale Bayern e.V.
DESCRIPTION:VorlesenAm 14. März 2024 hat sich der Bürgerbeauftragte der Bayerischen Staatsregierung\, Herr Wolfgang Fackler\, MdL\, mit der Vorständin des Verbraucherzentrale Bayern e.V.\, Frau Marion Zinkeler sowie der Referatsleiterin Recht und Digitales\, Frau Tatjana Halm hinsichtlich der Interessen und Bedürfnisse der bayerischen Verbraucherinnen und Verbraucher ausgetauscht.
URL:https://www.buergerbeauftragter.bayern/termin/austausch-mit-verbraucherzentrale-bayern-e-v/
LOCATION:München
CATEGORIES:Aktuell,Sonstige
ATTACH;FMTTYPE=image/jpeg:https://www.buergerbeauftragter.bayern/wp-content/uploads/2024/03/240314-Austausch-mit-Verbraucherzentrale.jpg
END:VEVENT
BEGIN:VEVENT
DTSTART;VALUE=DATE:20240314
DTEND;VALUE=DATE:20240315
DTSTAMP:20260420T011557
CREATED:20240315T142459Z
LAST-MODIFIED:20241014T052546Z
UID:6074-1710374400-1710460799@www.buergerbeauftragter.bayern
SUMMARY:Austausch mit Bayerischem Jugendring
DESCRIPTION:VorlesenAm 14. März 2024 hat sich der Bürgerbeauftragte der Bayerischen Staatsregierung\, Herr Wolfgang Fackler\, MdL\, mit dem Präsidenten des Bayerischen Jugendrings\, Herrn Philipp Seitz\, zu den Bedürfnissen der Jugendlichen und den Schwerpunkten der Jugendarbeit in Bayern ausgetauscht.
URL:https://www.buergerbeauftragter.bayern/termin/austausch-mit-bayerischem-jugendring/
LOCATION:München
CATEGORIES:Aktuell,Sonstige
ATTACH;FMTTYPE=image/jpeg:https://www.buergerbeauftragter.bayern/wp-content/uploads/2024/03/240314-Foto-mit-BJR-Praesidenten-Herrn-Seitz.jpg
END:VEVENT
BEGIN:VEVENT
DTSTART;VALUE=DATE:20240318
DTEND;VALUE=DATE:20240319
DTSTAMP:20260420T011557
CREATED:20240320T134644Z
LAST-MODIFIED:20241014T052643Z
UID:6104-1710720000-1710806399@www.buergerbeauftragter.bayern
SUMMARY:Verleihung des Ehrenzeichens für Verdienste im Ehrenamt
DESCRIPTION:VorlesenAm 18. März 2024 war der Bürgerbeauftragte der Bayerischen Staatsregierung\, Herr Wolfgang Fackler\, MdL\, zur Aushändigung des Ehrenzeichens für Verdienste im Ehrenamt eingeladen. Herr Ministerpräsident Dr. Markus Söder\, MdL\, hat ehrenamtlich tätigen Frauen und Männern aus Oberbayern\, Niederbayern und Schwaben das Ehrenzeichen des Bayerischen Ministerpräsidenten für Verdienste im Ehrenamt ausgehändigt. \nFoto: Bayerische Staatskanzlei
URL:https://www.buergerbeauftragter.bayern/termin/verleihung-des-ehrenzeichens-fuer-verdienste-im-ehrenamt/
LOCATION:München
CATEGORIES:Aktuell,Sonstige
ATTACH;FMTTYPE=image/jpeg:https://www.buergerbeauftragter.bayern/wp-content/uploads/2024/03/240318-Verleihung-Ehrenzeichens.jpg
END:VEVENT
END:VCALENDAR