BEGIN:VCALENDAR
VERSION:2.0
PRODID:-//Bürgerbeauftragter der Bayerischen Staatsregierung - ECPv6.15.14//NONSGML v1.0//EN
CALSCALE:GREGORIAN
METHOD:PUBLISH
X-WR-CALNAME:Bürgerbeauftragter der Bayerischen Staatsregierung
X-ORIGINAL-URL:https://www.buergerbeauftragter.bayern
X-WR-CALDESC:Veranstaltungen für Bürgerbeauftragter der Bayerischen Staatsregierung
REFRESH-INTERVAL;VALUE=DURATION:PT1H
X-Robots-Tag:noindex
X-PUBLISHED-TTL:PT1H
BEGIN:VTIMEZONE
TZID:Europe/Berlin
BEGIN:DAYLIGHT
TZOFFSETFROM:+0100
TZOFFSETTO:+0200
TZNAME:CEST
DTSTART:20230326T010000
END:DAYLIGHT
BEGIN:STANDARD
TZOFFSETFROM:+0200
TZOFFSETTO:+0100
TZNAME:CET
DTSTART:20231029T010000
END:STANDARD
BEGIN:DAYLIGHT
TZOFFSETFROM:+0100
TZOFFSETTO:+0200
TZNAME:CEST
DTSTART:20240331T010000
END:DAYLIGHT
BEGIN:STANDARD
TZOFFSETFROM:+0200
TZOFFSETTO:+0100
TZNAME:CET
DTSTART:20241027T010000
END:STANDARD
BEGIN:DAYLIGHT
TZOFFSETFROM:+0100
TZOFFSETTO:+0200
TZNAME:CEST
DTSTART:20250330T010000
END:DAYLIGHT
BEGIN:STANDARD
TZOFFSETFROM:+0200
TZOFFSETTO:+0100
TZNAME:CET
DTSTART:20251026T010000
END:STANDARD
END:VTIMEZONE
BEGIN:VEVENT
DTSTART;VALUE=DATE:20240604
DTEND;VALUE=DATE:20240605
DTSTAMP:20260419T201011
CREATED:20240604T140034Z
LAST-MODIFIED:20240604T140034Z
UID:6124-1717459200-1717545599@www.buergerbeauftragter.bayern
SUMMARY:Treffen der Beauftragten der Bayerischen Staatsregierung
DESCRIPTION:VorlesenDer Bürgerbeauftragte der Bayerischen Staatsregierung\, Herr Wolfgang Fackler\, MdL\, hat auf Einladung des Patienten- und Pflegebeauftragten der Bayerischen Staatsregierung\, Herrn Thomas Zöller\, MdL\, an einem Treffen aller Beauftragten der Bayerischen Staatsregierung im Bayerischen Staatsministerium für Gesundheit\, Pflege und Prävention teilgenommen. Dabei haben sich die Beauftragten insbesondere über ihre tägliche Arbeit und die bisherigen Erfahrungen ausgetauscht.
URL:https://www.buergerbeauftragter.bayern/termin/treffen-der-beauftragten-der-bayerischen-staatsregierung/
LOCATION:München
CATEGORIES:Aktuell,Sonstige
ATTACH;FMTTYPE=image/jpeg:https://www.buergerbeauftragter.bayern/wp-content/uploads/2024/06/Austausch-Beauftragte-scaled.jpg
END:VEVENT
BEGIN:VEVENT
DTSTART;VALUE=DATE:20240617
DTEND;VALUE=DATE:20240618
DTSTAMP:20260419T201011
CREATED:20240620T081041Z
LAST-MODIFIED:20240620T084514Z
UID:6138-1718582400-1718668799@www.buergerbeauftragter.bayern
SUMMARY:Teilnahme an der Auftaktveranstaltung Projekt „Lese-Kick“
DESCRIPTION:VorlesenDer Bürgerbeauftragte der Bayerischen Staatsregierung\, Herr Wolfgang Fackler\, MdL\, hat auf Einladung der Präsidentin der Deutschen Akademie für Kinder- und Jugendliteratur\, Frau Dr. Claudia Maria Pecher\, an der Auftaktveranstaltung des Projektes „Lese-Kick“ teilgenommen. Die Veranstaltung wurde in Kooperation mit dem Bayerischen Fußball-Verband und dem Bayerischen Staatsministerium für Wissenschaft und Kunst durchgeführt. Im Fokus stand dabei die Stärkung zweier Kernkompetenzen der Kinder: sportliche Betätigung und Lesekompetenz. \nAuf dem Foto v.l.n.r.: Projektkoordinatorin der Kick-Off-Veranstaltung Nadine Hehemann und Schulleiterin Eva Schröner (Montessorischule Soden)\, Akademie-Präsidentin Dr. Claudia Maria Pecher\, Autor Benjamin Lebert\, Sulzbachs Bürgermeister Markus Krebs\, Autorin Michaela Hanauer\, Autor Martin Ebbertz\, Bürgerbeauftragter der Bayerischen Staatsregierung Wolfgang Fackler\, MdL\, Vizepräsident des Bayerischen Fußball-Verbands Jürgen Pfau \nFoto: Deutsche Akademie für Kinder- und Jugendliteratur
URL:https://www.buergerbeauftragter.bayern/termin/teilnahme-an-der-auftaktveranstaltung-projekt-lese-kick/
LOCATION:Sulzbach a. Main
CATEGORIES:Aktuell,Sonstige
ATTACH;FMTTYPE=image/jpeg:https://www.buergerbeauftragter.bayern/wp-content/uploads/2024/06/240617-Lesekick.jpg
END:VEVENT
BEGIN:VEVENT
DTSTART;VALUE=DATE:20240620
DTEND;VALUE=DATE:20240621
DTSTAMP:20260419T201011
CREATED:20240624T070227Z
LAST-MODIFIED:20240624T070227Z
UID:6143-1718841600-1718927999@www.buergerbeauftragter.bayern
SUMMARY:Bürgersprechstunde in Babenhausen
DESCRIPTION:VorlesenDer Bürgerbeauftragte der Bayerischen Staatsregierung\, Herr Wolfgang Fackler\, MdL\, führte gemeinsam mit dem Ersten Bürgermeister des Marktes Babenhausen\, Herrn Otto Göppel\, eine Bürgersprechstunde in Babenhausen durch. Dort stellten die Bürgerinnen und Bürger Fragen und trugen Sachverhalte vor\, insbesondere das aktuelle Hochwasser betreffend.
URL:https://www.buergerbeauftragter.bayern/termin/buergersprechstunde-in-babenhausen/
LOCATION:Babenhausen
CATEGORIES:Aktuell,Bürgersprechstunden
ATTACH;FMTTYPE=image/jpeg:https://www.buergerbeauftragter.bayern/wp-content/uploads/2024/06/20240620_174518-scaled.jpg
END:VEVENT
END:VCALENDAR