BEGIN:VCALENDAR
VERSION:2.0
PRODID:-//Bürgerbeauftragter der Bayerischen Staatsregierung - ECPv6.15.14//NONSGML v1.0//EN
CALSCALE:GREGORIAN
METHOD:PUBLISH
X-ORIGINAL-URL:https://www.buergerbeauftragter.bayern
X-WR-CALDESC:Veranstaltungen für Bürgerbeauftragter der Bayerischen Staatsregierung
REFRESH-INTERVAL;VALUE=DURATION:PT1H
X-Robots-Tag:noindex
X-PUBLISHED-TTL:PT1H
BEGIN:VTIMEZONE
TZID:Europe/Berlin
BEGIN:DAYLIGHT
TZOFFSETFROM:+0100
TZOFFSETTO:+0200
TZNAME:CEST
DTSTART:20230326T010000
END:DAYLIGHT
BEGIN:STANDARD
TZOFFSETFROM:+0200
TZOFFSETTO:+0100
TZNAME:CET
DTSTART:20231029T010000
END:STANDARD
BEGIN:DAYLIGHT
TZOFFSETFROM:+0100
TZOFFSETTO:+0200
TZNAME:CEST
DTSTART:20240331T010000
END:DAYLIGHT
BEGIN:STANDARD
TZOFFSETFROM:+0200
TZOFFSETTO:+0100
TZNAME:CET
DTSTART:20241027T010000
END:STANDARD
BEGIN:DAYLIGHT
TZOFFSETFROM:+0100
TZOFFSETTO:+0200
TZNAME:CEST
DTSTART:20250330T010000
END:DAYLIGHT
BEGIN:STANDARD
TZOFFSETFROM:+0200
TZOFFSETTO:+0100
TZNAME:CET
DTSTART:20251026T010000
END:STANDARD
END:VTIMEZONE
BEGIN:VEVENT
DTSTART;VALUE=DATE:20240806
DTEND;VALUE=DATE:20240807
DTSTAMP:20260419T164905
CREATED:20240807T072940Z
LAST-MODIFIED:20240812T075812Z
UID:6170-1722902400-1722988799@www.buergerbeauftragter.bayern
SUMMARY:Gespräch bei münchen.tv – „Bayern Agenda“
DESCRIPTION:VorlesenDer Bürgerbeauftragte der Bayerischen Staatsregierung\, Herr Wolfgang Fackler\, MdL\, war zu Gast in der Sendung „Bayern Agenda“ bei münchen.tv und stellte sich den Fragen der Chefredakteurin\, Frau Marion Gehlert. Nähere Informationen hierzu und das Interview können Sie dem folgenden Link entnehmen\, der auf der Internetseite von münchen.tv veröffentlicht ist: Bayern Agenda vom 6.08.2024 | münchen.tv (muenchen.tv).
URL:https://www.buergerbeauftragter.bayern/termin/gespraech-bei-muenchen-tv-bayern-agenda/
LOCATION:München
CATEGORIES:Aktuell,Sonstige
ATTACH;FMTTYPE=image/jpeg:https://www.buergerbeauftragter.bayern/wp-content/uploads/2024/08/240806-Gespraech-Bayern-Agenda-scaled.jpeg
END:VEVENT
END:VCALENDAR