BEGIN:VCALENDAR
VERSION:2.0
PRODID:-//Bürgerbeauftragter der Bayerischen Staatsregierung - ECPv6.15.14//NONSGML v1.0//EN
CALSCALE:GREGORIAN
METHOD:PUBLISH
X-ORIGINAL-URL:https://www.buergerbeauftragter.bayern
X-WR-CALDESC:Veranstaltungen für Bürgerbeauftragter der Bayerischen Staatsregierung
REFRESH-INTERVAL;VALUE=DURATION:PT1H
X-Robots-Tag:noindex
X-PUBLISHED-TTL:PT1H
BEGIN:VTIMEZONE
TZID:Europe/Berlin
BEGIN:DAYLIGHT
TZOFFSETFROM:+0100
TZOFFSETTO:+0200
TZNAME:CEST
DTSTART:20230326T010000
END:DAYLIGHT
BEGIN:STANDARD
TZOFFSETFROM:+0200
TZOFFSETTO:+0100
TZNAME:CET
DTSTART:20231029T010000
END:STANDARD
BEGIN:DAYLIGHT
TZOFFSETFROM:+0100
TZOFFSETTO:+0200
TZNAME:CEST
DTSTART:20240331T010000
END:DAYLIGHT
BEGIN:STANDARD
TZOFFSETFROM:+0200
TZOFFSETTO:+0100
TZNAME:CET
DTSTART:20241027T010000
END:STANDARD
BEGIN:DAYLIGHT
TZOFFSETFROM:+0100
TZOFFSETTO:+0200
TZNAME:CEST
DTSTART:20250330T010000
END:DAYLIGHT
BEGIN:STANDARD
TZOFFSETFROM:+0200
TZOFFSETTO:+0100
TZNAME:CET
DTSTART:20251026T010000
END:STANDARD
END:VTIMEZONE
BEGIN:VEVENT
DTSTART;VALUE=DATE:20240911
DTEND;VALUE=DATE:20240912
DTSTAMP:20260419T144441
CREATED:20240913T120600Z
LAST-MODIFIED:20240913T120915Z
UID:6176-1726012800-1726099199@www.buergerbeauftragter.bayern
SUMMARY:Bürgerbeauftragter informiert sich über Fahrzeuge mit Wasserstoffantrieb
DESCRIPTION:VorlesenDas Verbrenner-Aus auf EU-Ebene muss aus Sicht des Bürgerbeauftragten gestoppt werden. Gleichzeitig braucht es Technologieoffenheit. Bis zur Serienreife neuer Antriebsformen sind noch viele Fragen offen. Einige Unternehmen setzen auf Innovationen und Kooperation: Mit dem Wasserstoffantrieb will beispielsweise BMW zusammen mit Toyota eine CO2-neutrale Alternative zum E-Auto schaffen und ab 2028 in die Serienproduktion gehen. Der Bürgerbeauftragte hat sich vor Ort über ein solches Fahrzeug informiert. \nFoto: Tobias Kurzmaier
URL:https://www.buergerbeauftragter.bayern/termin/buergerbeauftragter-informiert-sich-ueber-fahrzeuge-mit-wasserstoffantrieb/
LOCATION:München
CATEGORIES:Aktuell,Sonstige
ATTACH;FMTTYPE=image/jpeg:https://www.buergerbeauftragter.bayern/wp-content/uploads/2024/09/240911-Bild-Fahrzeug-mit-Wasserstoffantrieb.jpg
END:VEVENT
BEGIN:VEVENT
DTSTART;VALUE=DATE:20240920
DTEND;VALUE=DATE:20240921
DTSTAMP:20260419T144441
CREATED:20240924T121807Z
LAST-MODIFIED:20240924T121807Z
UID:6181-1726790400-1726876799@www.buergerbeauftragter.bayern
SUMMARY:Veranstaltung „Kommunikation\, Beschwerdemanagement und Deeskalationsstrategien"
DESCRIPTION:VorlesenDer Bürgerbeauftragte der Bayerischen Staatsregierung\, Herr Wolfgang Fackler\, MdL\, wurde vom Landratsamt München zur Veranstaltung „Kommunikation\, Beschwerdemanagement und Deeskalationsstrategien“ ins Rathaus Feldkirchen eingeladen und referierte über das Verhältnis Verwaltung-Bürger. Dabei ging er darauf ein\, wie eine gute Kommunikation aussehen könnte und stellte dies anhand von Beispielen aus seiner eigenen Tätigkeit dar.
URL:https://www.buergerbeauftragter.bayern/termin/veranstaltung-kommunikation-beschwerdemanagement-und-deeskalationsstrategien/
LOCATION:Feldkirchen
CATEGORIES:Aktuell,Sonstige
ATTACH;FMTTYPE=image/jpeg:https://www.buergerbeauftragter.bayern/wp-content/uploads/2024/09/240920-Vortrag-LRA-Muenchen-scaled.jpeg
END:VEVENT
BEGIN:VEVENT
DTSTART;VALUE=DATE:20240925
DTEND;VALUE=DATE:20240926
DTSTAMP:20260419T144441
CREATED:20240930T052017Z
LAST-MODIFIED:20240930T052024Z
UID:6188-1727222400-1727308799@www.buergerbeauftragter.bayern
SUMMARY:Bayerischer Tag der Militärtradition
DESCRIPTION:VorlesenDer Bürgerbeauftragte der Bayerischen Staatsregierung\, Herr Wolfgang Fackler\, MdL\, war vom Leiter der Staatskanzlei\, Herrn Staatsminister für Bundesangelegenheiten und Medien\, Dr. Florian Herrmann\, MdL\, zum Bayerischen Tag der Militärtradition in das Neue Schloss Schleißheim eingeladen. Der Tag der Militärtradition wurde von der Bayerischen Staatsregierung in Partnerschaft mit der Bundeswehr\, der Arbeitsgemeinschaft der Reservisten-\, Soldaten- und Traditionsverbände in Bayern e.V. und dem Freundeskreis Infanterie-Leib-Regiment e.V. gestaltet. \nFoto Copyright: Bayerische Staatskanzlei
URL:https://www.buergerbeauftragter.bayern/termin/bayerischer-tag-der-militaertradition/
LOCATION:Schloss Schleißheim
CATEGORIES:Aktuell,Sonstige
ATTACH;FMTTYPE=image/jpeg:https://www.buergerbeauftragter.bayern/wp-content/uploads/2024/09/240925-Bayerischer-Tag-der-Militaertradition.jpeg
END:VEVENT
END:VCALENDAR